BEGIN:VCALENDAR
VERSION:2.0
PRODID:-//Squarespace Inc/Squarespace 6//v6//EN
BEGIN:VEVENT
UID:59c2419b49fc2beaafc308e8@squarespace.com
DTSTAMP:20170922T033624Z
DTSTART:20171016T193000Z
DTEND:20171016T203000Z
SUMMARY: 5-8 Year Old Session @ Onehunga Community House
GEO:-36.920207;174.782996
LOCATION:Onehunga Community House\, 83 Selwyn Street\, Auckland\, Auckland\
 , 1061\, New Zealand
END:VEVENT
END:VCALENDAR
