BEGIN:VCALENDAR
VERSION:2.0
PRODID:-//Squarespace Inc/Squarespace 6//v6//EN
BEGIN:VEVENT
UID:59c23c9f46c3c438633c5dcf@squarespace.com
DTSTAMP:20170922T033637Z
DTSTART:20171017T193000Z
DTEND:20171017T204500Z
SUMMARY:8-12 Year Old Session @ Onehunga Community House
GEO:-36.920207;174.782996
LOCATION:Onehunga Community House\, 83 Selwyn Street\, Auckland\, Auckland\
 , 1061\, New Zealand
END:VEVENT
END:VCALENDAR
