BEGIN:VCALENDAR
VERSION:2.0
PRODID:-//Squarespace Inc/Squarespace 6//v6//EN
BEGIN:VEVENT
UID:59cccd6e49fc2bd0a466ed35@squarespace.com
DTSTAMP:20170928T102323Z
DTSTART:20171002T103000Z
DTEND:20171013T113000Z
SUMMARY:School Holidays
END:VEVENT
END:VCALENDAR
