BEGIN:VCALENDAR
VERSION:2.0
PRODID:-//Squarespace Inc/Squarespace 6//v6//EN
BEGIN:VEVENT
UID:59c428f290bade7bde289303@squarespace.com
DTSTAMP:20170921T210600Z
DTSTART:20171101T190000Z
DTEND:20171101T200000Z
SUMMARY:Scholarship Bake Sale @ The Onehunga Community House
END:VEVENT
END:VCALENDAR
