BEGIN:VCALENDAR
VERSION:2.0
PRODID:-//Squarespace Inc/Squarespace 6//v6//EN
BEGIN:VEVENT
UID:59c425fee45a7ca04e632338@squarespace.com
DTSTAMP:20170921T205245Z
DTSTART:20171106T203000Z
DTEND:20171106T213000Z
SUMMARY:Term 4 Classes Continue
END:VEVENT
END:VCALENDAR
