BEGIN:VCALENDAR
VERSION:2.0
PRODID:-//Squarespace Inc/Squarespace 6//v6//EN
BEGIN:VEVENT
UID:59c426a8d7bdce289f17592a@squarespace.com
DTSTAMP:20170921T210725Z
DTSTART:20171109T203000Z
DTEND:20171109T214500Z
SUMMARY:Term 4 Classes Continue
END:VEVENT
END:VCALENDAR
