BEGIN:VCALENDAR
VERSION:2.0
PRODID:-//Squarespace Inc/Squarespace 6//v6//EN
BEGIN:VEVENT
UID:59c42778b07869bae417a082@squarespace.com
DTSTAMP:20170921T210203Z
DTSTART:20171211T203000Z
DTEND:20171211T213000Z
SUMMARY:Last Monday Class of Term 4
END:VEVENT
END:VCALENDAR
