BEGIN:VCALENDAR
VERSION:2.0
PRODID:-//Squarespace Inc/Squarespace 6//v6//EN
BEGIN:VEVENT
UID:59c42818c027d88718f41298@squarespace.com
DTSTAMP:20170921T210228Z
DTSTART:20171212T203000Z
DTEND:20171212T214500Z
SUMMARY:Last Tuesday Class of Term 4
END:VEVENT
END:VCALENDAR
