BEGIN:VCALENDAR
VERSION:2.0
PRODID:-//Squarespace Inc/Squarespace 6//v6//EN
BEGIN:VEVENT
UID:59c42870017db245967e2b8a@squarespace.com
DTSTAMP:20170921T210144Z
DTSTART:20171214T203000Z
DTEND:20171214T213000Z
SUMMARY:Last Thursday Class of Term 4
END:VEVENT
END:VCALENDAR
