BEGIN:VCALENDAR
VERSION:2.0
PRODID:-//Squarespace Inc/Squarespace 6//v6//EN
BEGIN:VEVENT
UID:5a14fdffc83025aa86aa8bb6@squarespace.com
DTSTAMP:20171122T043506Z
DTSTART:20180115T140000Z
DTEND:20180115T200000Z
SUMMARY:Carnival! Summer 2018 Holiday Programme
GEO:-36.920207;174.782996
LOCATION:Onehunga Community House\, 83 Selwyn Street\, Auckland\, Auckland\
 , 1061\, New Zealand
END:VEVENT
END:VCALENDAR
