BEGIN:VCALENDAR
VERSION:2.0
PRODID:-//Squarespace Inc/Squarespace 6//v6//EN
BEGIN:VEVENT
UID:5a14ff69e2c483f5ad362c2e@squarespace.com
DTSTAMP:20171122T044019Z
DTSTART:20180118T140000Z
DTEND:20180118T200000Z
SUMMARY:Carnival! Summer 2018 Holiday Programme
GEO:-36.920207;174.782996
LOCATION:Onehunga Community House\, 83 Selwyn Street\, Auckland\, Auckland\
 , 1061\, New Zealand
END:VEVENT
END:VCALENDAR
