BEGIN:VCALENDAR
VERSION:2.0
PRODID:-//Squarespace Inc/Squarespace 6//v6//EN
BEGIN:VEVENT
UID:59c4830d2278e7424adcb1ed@squarespace.com
DTSTAMP:20170922T033607Z
DTSTART:20180125T143000Z
DTEND:20180125T173000Z
SUMMARY:Shadow Puppet Workshop @ UXBRIDGE
GEO:-36.894019;174.933902
LOCATION:UXBRIDGE\, 35 Uxbridge Road\, Auckland\, Auckland\, 2014\, New Zea
 land
END:VEVENT
END:VCALENDAR
