BEGIN:VCALENDAR
VERSION:2.0
PRODID:-//Squarespace Inc/Squarespace 6//v6//EN
BEGIN:VEVENT
UID:5a248fa5f9619ac01b1173d6@squarespace.com
DTSTAMP:20171204T000152Z
DTSTART:20180205T214500Z
DTEND:20180205T224500Z
SUMMARY:Intermediate Class Begins @ The Onehunga Community House
GEO:-36.920207;174.782996
LOCATION:83 Selwyn Street\, Auckland\, Auckland\, 1061\, New Zealand
END:VEVENT
END:VCALENDAR
