BEGIN:VCALENDAR
VERSION:2.0
PRODID:-//Squarespace Inc/Squarespace 6//v6//EN
BEGIN:VEVENT
UID:5a11688ac8302511613a9299@squarespace.com
DTSTAMP:20171203T231246Z
DTSTART:20180205T203000Z
DTEND:20180205T213000Z
SUMMARY:8-12 Year Old Class Begins @ The Onehunga Community House
GEO:-36.920207;174.782996
LOCATION:83 Selwyn Street\, Auckland\, Auckland\, 1061\, New Zealand
END:VEVENT
END:VCALENDAR
