BEGIN:VCALENDAR
VERSION:2.0
PRODID:-//Squarespace Inc/Squarespace 6//v6//EN
BEGIN:VEVENT
UID:5a248521419202b1df2a32f2@squarespace.com
DTSTAMP:20171203T231923Z
DTSTART:20180206T203000Z
DTEND:20180206T214500Z
SUMMARY:8-12 Advanced Class Begins @ The Onehunga Community House
GEO:-36.920207;174.782996
LOCATION:83 Selwyn Street\, Auckland\, Auckland\, 1061\, New Zealand
END:VEVENT
END:VCALENDAR
