BEGIN:VCALENDAR
VERSION:2.0
PRODID:-//Squarespace Inc/Squarespace 6//v6//EN
BEGIN:VEVENT
UID:5a248d049140b76b2c7597e8@squarespace.com
DTSTAMP:20171211T205816Z
DTSTART:20180208T214500Z
DTEND:20180208T224500Z
SUMMARY:Intermediate Class Begins @ The Onehunga Community House
GEO:-36.920207;174.782996
LOCATION:83 Selwyn Street\, Auckland\, Auckland\, 1061\, New Zealand
END:VEVENT
END:VCALENDAR
