BEGIN:VCALENDAR
VERSION:2.0
PRODID:-//Squarespace Inc/Squarespace 6//v6//EN
BEGIN:VEVENT
UID:5a248b77ec212d3898dda1d6@squarespace.com
DTSTAMP:20171203T234345Z
DTSTART:20180207T203000Z
DTEND:20180207T213000Z
SUMMARY:5-8 Year Old Class Begins @ The Oranga Community Centre
GEO:-36.911215;174.8003
LOCATION:52 Waitangi Road\, Auckland\, Auckland\, 1061\, New Zealand
END:VEVENT
END:VCALENDAR
