BEGIN:VCALENDAR
VERSION:2.0
PRODID:-//Squarespace Inc/Squarespace 6//v6//EN
BEGIN:VEVENT
UID:5a248c4ff9619ac01b10ef61@squarespace.com
DTSTAMP:20171203T235650Z
DTSTART:20180207T214500Z
DTEND:20180207T224500Z
SUMMARY:8-12 Year Old Class Begins @ The Oranga Community Centre
GEO:-36.911215;174.8003
LOCATION:52 Waitangi Road\, Auckland\, Auckland\, 1061\, New Zealand
END:VEVENT
END:VCALENDAR
