BEGIN:VCALENDAR
VERSION:2.0
PRODID:-//Squarespace Inc/Squarespace 6//v6//EN
BEGIN:VEVENT
UID:5a2485ecc830253042b13a82@squarespace.com
DTSTAMP:20171203T231940Z
DTSTART:20180208T203000Z
DTEND:20180208T213000Z
SUMMARY:5-8 Year Old Class @ The Onehunga Community House 
GEO:-36.920207;174.782996
LOCATION:83 Selwyn Street\, Auckland\, Auckland\, 1061\, New Zealand
END:VEVENT
END:VCALENDAR
