BEGIN:VCALENDAR
VERSION:2.0
PRODID:-//Squarespace Inc/Squarespace 6//v6//EN
BEGIN:VEVENT
UID:5a2487c3652deacb41b98218@squarespace.com
DTSTAMP:20171211T205913Z
DTSTART:20180410T193000Z
DTEND:20180410T204500Z
SUMMARY:Last Tuesday Class of Term 1
END:VEVENT
END:VCALENDAR
