BEGIN:VCALENDAR
VERSION:2.0
PRODID:-//Squarespace Inc/Squarespace 6//v6//EN
BEGIN:VEVENT
UID:5a2486a09140b76b2c7492dd@squarespace.com
DTSTAMP:20171204T001831Z
DTSTART:20180409T193000Z
DTEND:20180409T214500Z
SUMMARY:Last Monday Classes of  Term 1 
END:VEVENT
END:VCALENDAR
