BEGIN:VCALENDAR
VERSION:2.0
PRODID:-//Squarespace Inc/Squarespace 6//v6//EN
BEGIN:VEVENT
UID:5ca08e66c8302541098d1c63@squarespace.com
DTSTAMP:20190331T095658Z
DTSTART:20190401T110000Z
DTEND:20190419T210000Z
SUMMARY:T2 Early Bird Opens!
END:VEVENT
END:VCALENDAR
