BEGIN:VCALENDAR
VERSION:2.0
PRODID:-//Squarespace Inc/Squarespace 6//v6//EN
BEGIN:VEVENT
UID:5c998868e79c705fd46d86f1@squarespace.com
DTSTAMP:20190326T020617Z
DTSTART:20190415T140000Z
DTEND:20190418T190000Z
SUMMARY:Make Fantastic Beasts These School Holidays! 
END:VEVENT
END:VCALENDAR
