BEGIN:VCALENDAR
VERSION:2.0
PRODID:-//Squarespace Inc/Squarespace 6//v6//EN
BEGIN:VEVENT
UID:5c9989359140b7e37312c3e9@squarespace.com
DTSTAMP:20190326T020947Z
DTSTART:20190424T170000Z
DTEND:20190424T200000Z
SUMMARY:Get Wild w/ Our Wildlings Holiday Programme!
END:VEVENT
END:VCALENDAR
