BEGIN:VCALENDAR
VERSION:2.0
PRODID:-//Squarespace Inc/Squarespace 6//v6//EN
BEGIN:VEVENT
UID:5ca08bb74785d33d1ae661bc@squarespace.com
DTSTAMP:20190331T094618Z
DTSTART:20190405T213000Z
DTEND:20190405T223000Z
SUMMARY:The Devonport Arts Festival
END:VEVENT
END:VCALENDAR
